3.2500000000
0.0000000000
0.0000000000
-3.2500000000
991271.1250000000
596106.8750000000
