3.2000000000
0.0000000000
0.0000000000
-3.2000000000
1179162.3500000001
526741.9500000001
