3.2500000000
0.0000000000
0.0000000000
-3.2500000000
1029273.3750000000
626601.6250000000
