3.2500000000
0.0000000000
0.0000000000
-3.2500000000
996500.3750000000
595840.3750000000
