3.2500000000
0.0000000000
0.0000000000
-3.2500000000
964078.3750000000
565280.6250000000
