3.2500000000
0.0000000000
0.0000000000
-3.2500000000
995798.3750000000
564061.8750000000
