3.2500000000
0.0000000000
0.0000000000
-3.2500000000
1035763.6250000000
658168.8750000000
