3.2500000000
0.0000000000
0.0000000000
-3.2500000000
1066138.1250000000
625444.6250000000
