3.2500000000
0.0000000000
0.0000000000
-3.2500000000
1001615.8750000000
595895.6250000000
