3.2500000000
0.0000000000
0.0000000000
-3.2500000000
1065211.8750000000
593692.1250000000
