3.2500000000
0.0000000000
0.0000000000
-3.2500000000
1096909.1250000000
592775.6250000000
