3.2500000000
0.0000000000
0.0000000000
-3.2500000000
1159029.6250000000
559024.3750000000
