3.2500000000
0.0000000000
0.0000000000
-3.2500000000
1095495.3750000000
560971.1250000000
