3.2000000000
0.0000000000
0.0000000000
-3.2000000000
1189802.8500000001
526496.5000000000
