3.2500000000
0.0000000000
0.0000000000
-3.2500000000
1008128.8750000000
627163.8750000000
