3.2500000000
0.0000000000
0.0000000000
-3.2500000000
975706.8750000000
596727.6250000000
