3.2500000000
0.0000000000
0.0000000000
-3.2500000000
974601.8750000000
564659.8750000000
