3.2500000000
0.0000000000
0.0000000000
-3.2500000000
1164284.8750000000
558988.6250000000
