3.2500000000
0.0000000000
0.0000000000
-3.2500000000
1100799.3750000000
560795.6250000000
