3.2500000000
0.0000000000
0.0000000000
-3.2500000000
1014950.6250000000
658916.3750000000
