3.2500000000
0.0000000000
0.0000000000
-3.2500000000
1046111.6250000000
657892.6250000000
