3.2500000000
0.0000000000
0.0000000000
-3.2500000000
1012457.8750000000
595843.6250000000
