3.2500000000
0.0000000000
0.0000000000
-3.2500000000
947971.3750000000
565914.3750000000
