3.2500000000
0.0000000000
0.0000000000
-3.2500000000
1013575.8750000000
632350.8750000000
