3.2500000000
0.0000000000
0.0000000000
-3.2500000000
981179.8750000000
601726.1250000000
