3.2500000000
0.0000000000
0.0000000000
-3.2500000000
1075930.3750000000
598560.6250000000
