3.2500000000
0.0000000000
0.0000000000
-3.2500000000
1107588.6250000000
597809.8750000000
