3.2500000000
0.0000000000
0.0000000000
-3.2500000000
1073879.6250000000
535042.6250000000
