3.2500000000
0.0000000000
0.0000000000
-3.2500000000
1104891.1250000000
533921.3750000000
