3.2500000000
0.0000000000
0.0000000000
-3.2500000000
1072508.1250000000
662137.1250000000
