3.2500000000
0.0000000000
0.0000000000
-3.2500000000
1007235.1250000000
601293.8750000000
