3.2500000000
0.0000000000
0.0000000000
-3.2500000000
1037833.8750000000
567880.6250000000
