3.2500000000
0.0000000000
0.0000000000
-3.2500000000
1132694.8750000000
565309.8750000000
