3.2500000000
0.0000000000
0.0000000000
-3.2500000000
1100955.3750000000
566093.1250000000
