3.2500000000
0.0000000000
0.0000000000
-3.2500000000
1163625.1250000000
532475.1250000000
