3.2500000000
0.0000000000
0.0000000000
-3.2500000000
1034720.3750000000
631733.3750000000
