3.2500000000
0.0000000000
0.0000000000
-3.2500000000
1001209.6250000000
569174.1250000000
