3.2500000000
0.0000000000
0.0000000000
-3.2500000000
1032604.6250000000
568091.8750000000
