3.2500000000
0.0000000000
0.0000000000
-3.2500000000
1030514.8750000000
663615.8750000000
