3.2500000000
0.0000000000
0.0000000000
-3.2500000000
1055777.1250000000
631054.1250000000
