3.2500000000
0.0000000000
0.0000000000
-3.2500000000
1053846.6250000000
567337.8750000000
