3.2500000000
0.0000000000
0.0000000000
-3.2500000000
1179511.1250000000
532104.6250000000
