3.2500000000
0.0000000000
0.0000000000
-3.2500000000
1115294.3750000000
533745.8750000000
