3.2500000000
0.0000000000
0.0000000000
-3.2500000000
988073.1250000000
632536.1250000000
