3.2500000000
0.0000000000
0.0000000000
-3.2500000000
1050554.3750000000
631288.1250000000
