3.2500000000
0.0000000000
0.0000000000
-3.2500000000
986285.6250000000
601261.3750000000
