3.2500000000
0.0000000000
0.0000000000
-3.2500000000
1019152.8750000000
637479.3750000000
