3.2500000000
0.0000000000
0.0000000000
-3.2500000000
1143569.3750000000
570301.8750000000
