3.2000000000
0.0000000000
0.0000000000
-3.2000000000
1110380.3500000001
539121.6500000000
