3.2500000000
0.0000000000
0.0000000000
-3.2500000000
1025396.1250000000
669101.8750000000
